BEGIN:VCALENDAR
VERSION:2.0
PRODID:-//pretix//Royale_Tickets//
BEGIN:VTIMEZONE
TZID:Europe/Berlin
BEGIN:STANDARD
DTSTART:20001029T030000
RRULE:FREQ=YEARLY;BYDAY=-1SU;BYMONTH=10
TZNAME:CET
TZOFFSETFROM:+0200
TZOFFSETTO:+0100
END:STANDARD
BEGIN:DAYLIGHT
DTSTART:20000326T020000
RRULE:FREQ=YEARLY;BYDAY=-1SU;BYMONTH=3
TZNAME:CEST
TZOFFSETFROM:+0100
TZOFFSETTO:+0200
END:DAYLIGHT
END:VTIMEZONE
BEGIN:VEVENT
UID:pretix-tickets-WaH2024-0@tickets.ladaroyal.com
DTSTART;TZID=Europe/Berlin:20241002T190000
DTEND;TZID=Europe/Berlin:20241002T235900
DESCRIPTION:Tickets: https://tickets.ladaroyal.com/WaH2024/\nEinlass: 02.10
 .2024 19:00\nVeranstalter: Lada royal
DTSTAMP:20260422T115333Z
LOCATION:Wild at Heart\, Wiener Str. 20\, 10999 Berlin-Kreuzberg
SUMMARY:Lada royal & VIVIN @ Wild at Heart Berlin 2024
END:VEVENT
END:VCALENDAR
